BEGIN:VCALENDAR
VERSION:2.0
BEGIN:VEVENT
URL:https://www.centraloeanea.org/home/connect/events/viewevent/356-presidents-training 
DTSTART:20210614T090000
DTEND:20210614T113000
SUMMARY:Presidents Training
DESCRIPTION:<p>Presidents Training</p>
LOCATION:Virtual
END:VEVENT
END:VCALENDAR